BEGIN:VCALENDAR
VERSION:2.0
PRODID:-//IFAK e.V. - ECPv4.9.9//NONSGML v1.0//EN
CALSCALE:GREGORIAN
METHOD:PUBLISH
X-WR-CALNAME:IFAK e.V.
X-ORIGINAL-URL:https://ifak-bochum.de
X-WR-CALDESC:Veranstaltungen im IFAK e.V.
BEGIN:VTIMEZONE
TZID:Europe/Berlin
BEGIN:DAYLIGHT
TZOFFSETFROM:+0100
TZOFFSETTO:+0200
TZNAME:CEST
DTSTART:20170326T010000
END:DAYLIGHT
BEGIN:STANDARD
TZOFFSETFROM:+0200
TZOFFSETTO:+0100
TZNAME:CET
DTSTART:20171029T010000
END:STANDARD
END:VTIMEZONE
BEGIN:VEVENT
DTSTART;TZID=Europe/Berlin:20170908T160000
DTEND;TZID=Europe/Berlin:20170908T190000
DTSTAMP:20260423T103824
CREATED:20170829T205121Z
LAST-MODIFIED:20170829T205627Z
UID:1757-1504886400-1504897200@ifak-bochum.de
SUMMARY:1. Demokratiekonferenz in Hattingen
DESCRIPTION:Partnerschaft für Demokratie \nWir laden alle Interessierten herzlich ein zur Auftaktveranstaltung des gemeinsamen Projektes „Demokratie leben!“ in Hattingen. \nEs ist die erste Demokratiekonferenz in Hattingen und wir möchten sie nutzen\, um über das Projekt zu informieren und zugleich einen Austausch über seine Ziele und Ausgestaltung sowie das Vorgehen in der nächsten Zeit zu ermöglichen. \nFolgender Ablauf ist bisher geplant: \n\nBegrüßung und Eröffnung durch den Bürgermeister Dirk Glaser\nFachvortrag von Alexander Häusler (Sozialwissenschaftler HS Düsseldorf): „Rechtspopulismus in Deutschland: Ursachen und Gegenstrategien“ + Diskussion\nMusikalische Einlage durch das SingCafé International\nVorstellung des Projekts „Demokratie leben!“ durch die Projektkoordinatoren: Piotr Suder und Martin Klingender + Klärung von Fragen\nStatement eines Jugendvertreters: Wie Jugendliche sich im Jugendforum für Demokratie und Toleranz engagieren wollen\nInteraktiver Teil: Austausch an Thementischen zur Ausgestaltung des Projekts „Demokratie leben!“\nKurze Zusammenfassung der Ergebnisse und Ausblick\nAusklang bei Musik und Snacks\n\nDas Projekt SingCafé international wird uns an diesem Tag und langfristig in Idee und Praxis mit der gemeinschaftsstärkenden Kraft des gemeinsamen Singens begeistern. \nBei Fragen wendet Euch bitte an: \nPiotr Suder (0175-8202624) oder Martin Klingender (0151-54458019) von der Fach- und Koordinierungsstelle von „Demokratie leben!“. Für eine zeitnahe Rückmeldung an suder@ifak-bochum.de wären wir Euch dankbar. Weitere Informationen findet Ihr unter: www.demokratie-leben-hattingen.de \n \n
URL:https://ifak-bochum.de/event/1-demokratiekonferenz-in-hattingen/
LOCATION:Feuerwehrmuseum Hattingen\, Henrichs-Allee 2\, Hattingen\, 45527\, Deutschland
ATTACH;FMTTYPE=image/jpeg:https://ifak-bochum.de/wp-content/uploads/2017/08/Flyer-Demokratie-Leben-Hattingen-1.Demokratiekonferenz.jpg
END:VEVENT
END:VCALENDAR