BEGIN:VCALENDAR
VERSION:2.0
PRODID:-//IFAK e.V. - ECPv4.9.9//NONSGML v1.0//EN
CALSCALE:GREGORIAN
METHOD:PUBLISH
X-WR-CALNAME:IFAK e.V.
X-ORIGINAL-URL:https://ifak-bochum.de
X-WR-CALDESC:Veranstaltungen im IFAK e.V.
BEGIN:VTIMEZONE
TZID:Europe/Berlin
BEGIN:DAYLIGHT
TZOFFSETFROM:+0100
TZOFFSETTO:+0200
TZNAME:CEST
DTSTART:20210328T010000
END:DAYLIGHT
BEGIN:STANDARD
TZOFFSETFROM:+0200
TZOFFSETTO:+0100
TZNAME:CET
DTSTART:20211031T010000
END:STANDARD
END:VTIMEZONE
BEGIN:VEVENT
DTSTART;TZID=Europe/Berlin:20210301T173000
DTEND;TZID=Europe/Berlin:20210301T183000
DTSTAMP:20260422T035538
CREATED:20210208T105322Z
LAST-MODIFIED:20210208T111351Z
UID:3793-1614619800-1614623400@ifak-bochum.de
SUMMARY:Online-Ino-Veranstaltung: Heizkosten
DESCRIPTION:Die Integrationsagentur Mitte bietet in Kooperation mit der Verbraucherzentrale NRW unter dem Motto „Expert*innen geben Rat“ einige Online-Info-Veranstaltungen an: \nThema am 1. März 2021 sind „Heizkosten“ \nEs soll um folgendes Thema gehen: \n\nMeine Heizkosten sind viel zu hoch! Wie kann ich Geld sparen?\n\nDie Veranstaltungen finden Online per Videokonferenz statt und sind kostenlos. Eine Anmeldung ist nicht erforderlich. Die Zahl der Teilnehmenden ist auf 15 Personen begrenzt. \nhttps://zoom.us/j/99208845929?pwd=OFFyenhRSGU5eGdoTmtxeEh4Z2kzZz09\nMeeting-ID: 992 0884 5929 Kenncode: 636766 \n
URL:https://ifak-bochum.de/event/3793/
ATTACH;FMTTYPE=image/png:https://ifak-bochum.de/wp-content/uploads/2021/02/Expertinnen-geben-Rat-20210205.png
END:VEVENT
END:VCALENDAR