BEGIN:VCALENDAR
VERSION:2.0
PRODID:-//IFAK e.V. - ECPv4.9.9//NONSGML v1.0//EN
CALSCALE:GREGORIAN
METHOD:PUBLISH
X-WR-CALNAME:IFAK e.V.
X-ORIGINAL-URL:https://ifak-bochum.de
X-WR-CALDESC:Veranstaltungen im IFAK e.V.
BEGIN:VTIMEZONE
TZID:Europe/Berlin
BEGIN:DAYLIGHT
TZOFFSETFROM:+0100
TZOFFSETTO:+0200
TZNAME:CEST
DTSTART:20190331T010000
END:DAYLIGHT
BEGIN:STANDARD
TZOFFSETFROM:+0200
TZOFFSETTO:+0100
TZNAME:CET
DTSTART:20191027T010000
END:STANDARD
END:VTIMEZONE
BEGIN:VEVENT
DTSTART;TZID=Europe/Berlin:20190126T170000
DTEND;TZID=Europe/Berlin:20190126T190000
DTSTAMP:20260423T111532
CREATED:20190119T190716Z
LAST-MODIFIED:20190119T190831Z
UID:2228-1548522000-1548529200@ifak-bochum.de
SUMMARY:5 Jahre Puppentheater
DESCRIPTION:\n\n\n\nDas Puppentheater «Märchen-Show» lädt Sie zu seinem 5-jährigen Jubiläum in die Räume der Integrationsagentur Querenburg (Steinkuhl) ein!\nEs gibt für Sie Fragmente aus Märchen\, lustige musikalische Nummern\, Musik\, Tanz\, Gesang und vieles mehr… \n \n\n\n\n\n
URL:https://ifak-bochum.de/event/5-jahre-puppentheater/
LOCATION:Integrationsagentur Querenburg\, Girondelle 82\, Bochum\, Nordrhein-Westfalen\, 44799\, Deutschland
ATTACH;FMTTYPE=image/jpeg:https://ifak-bochum.de/wp-content/uploads/2019/01/5-Jahre-Puppentheater-Plakat-1.jpg
END:VEVENT
END:VCALENDAR