BEGIN:VCALENDAR
VERSION:2.0
PRODID:-//IFAK e.V. - ECPv4.9.9//NONSGML v1.0//EN
CALSCALE:GREGORIAN
METHOD:PUBLISH
X-WR-CALNAME:IFAK e.V.
X-ORIGINAL-URL:https://ifak-bochum.de
X-WR-CALDESC:Veranstaltungen im IFAK e.V.
BEGIN:VTIMEZONE
TZID:Europe/Berlin
BEGIN:DAYLIGHT
TZOFFSETFROM:+0100
TZOFFSETTO:+0200
TZNAME:CEST
DTSTART:20190331T010000
END:DAYLIGHT
BEGIN:STANDARD
TZOFFSETFROM:+0200
TZOFFSETTO:+0100
TZNAME:CET
DTSTART:20191027T010000
END:STANDARD
END:VTIMEZONE
BEGIN:VEVENT
DTSTART;TZID=Europe/Berlin:20190507T180000
DTEND;TZID=Europe/Berlin:20190507T200000
DTSTAMP:20260423T103824
CREATED:20190503T152920Z
LAST-MODIFIED:20190503T153000Z
UID:2364-1557252000-1557259200@ifak-bochum.de
SUMMARY:Filmabend im Q1 - Suffragette - Taten statt Worte
DESCRIPTION:  \nDie Integrationsagentur Mitte und der Stadtteiltreff Stahlhausen laden am 07.05.2019 ab 18 Uhr ins Q1 zum Quartierskino ein. \nWir zeigen den Film „Suffragette – Taten statt Worte“\, in dem es um den Anfang der Frauenbewegung in Großbritannien und um die Erkämpfung des Frauenwahlrechts geht. Da wir dieses Jahr 100 Jahre Frauenwahlrecht feiern\, macht es auch Sinn informiert zu sein\, wer dafür so hart gekämpft hat. \n
URL:https://ifak-bochum.de/event/filmabend-im-q1-suffragette-taten-statt-worte/
LOCATION:Q1 – Haus für Kultur\, Religion und Soziales\, Halbachstr. 1\, Bochum\, 44793\, Deutschland
ATTACH;FMTTYPE=image/jpeg:https://ifak-bochum.de/wp-content/uploads/2019/05/Film-ab-Q1-Suffragette-2019-rot.jpg
END:VEVENT
END:VCALENDAR