BEGIN:VCALENDAR
VERSION:2.0
PRODID:-//IFAK e.V. - ECPv4.9.9//NONSGML v1.0//EN
CALSCALE:GREGORIAN
METHOD:PUBLISH
X-WR-CALNAME:IFAK e.V.
X-ORIGINAL-URL:https://ifak-bochum.de
X-WR-CALDESC:Veranstaltungen im IFAK e.V.
BEGIN:VTIMEZONE
TZID:Europe/Berlin
BEGIN:DAYLIGHT
TZOFFSETFROM:+0100
TZOFFSETTO:+0200
TZNAME:CEST
DTSTART:20150329T010000
END:DAYLIGHT
BEGIN:STANDARD
TZOFFSETFROM:+0200
TZOFFSETTO:+0100
TZNAME:CET
DTSTART:20151025T010000
END:STANDARD
END:VTIMEZONE
BEGIN:VEVENT
DTSTART;TZID=Europe/Berlin:20150624T140000
DTEND;TZID=Europe/Berlin:20150624T180000
DTSTAMP:20260422T161428
CREATED:20150623T100955Z
LAST-MODIFIED:20150623T100955Z
UID:652-1435154400-1435168800@ifak-bochum.de
SUMMARY:Flohmarkt im e57
DESCRIPTION:Jeder nimmt das\, was er braucht und gibt das\, was er kann! 😉 \nVon den Einnahmen wird das Abschlussfest für die Kinder und Jugendlichen der Lernförderung und die des Übergangswohnheimes der Wohlfahrtstraße finanziert. \n!!!!!! KOMMT VORBEI !!!!!! \n  \n  \n
URL:https://ifak-bochum.de/event/flohmarkt-im-e57/
LOCATION:Kinder-\, Jugend- und Stadtteilzentrum e57\, Essener Straße 57\, Bochum\, Nordrhein-Westfalen\, 44793\, Deutschland
ATTACH;FMTTYPE=image/png:https://ifak-bochum.de/wp-content/uploads/2015/06/LF-Flohmarkt.png
END:VEVENT
END:VCALENDAR