BEGIN:VCALENDAR
VERSION:2.0
PRODID:-//IFAK e.V. - ECPv4.9.9//NONSGML v1.0//EN
CALSCALE:GREGORIAN
METHOD:PUBLISH
X-WR-CALNAME:IFAK e.V.
X-ORIGINAL-URL:https://ifak-bochum.de
X-WR-CALDESC:Veranstaltungen im IFAK e.V.
BEGIN:VTIMEZONE
TZID:Europe/Berlin
BEGIN:DAYLIGHT
TZOFFSETFROM:+0100
TZOFFSETTO:+0200
TZNAME:CEST
DTSTART:20240331T010000
END:DAYLIGHT
BEGIN:STANDARD
TZOFFSETFROM:+0200
TZOFFSETTO:+0100
TZNAME:CET
DTSTART:20241027T010000
END:STANDARD
END:VTIMEZONE
BEGIN:VEVENT
DTSTART;TZID=Europe/Berlin:20240715T131500
DTEND;TZID=Europe/Berlin:20240715T144500
DTSTAMP:20260421T211527
CREATED:20240628T083815Z
LAST-MODIFIED:20240628T083815Z
UID:6206-1721049300-1721054700@ifak-bochum.de
SUMMARY:Frauenplauderstunde
DESCRIPTION:In der Frauenplauderstunde können alle Themen\, die Frauen beschäftigen\, besprochen werden. Begleitet wird das Angebot von einer Frauenärztin\, Frau Gudrun Sommer\, und jeweils einer Bildungsreferentin aus dem Team des Bildungswerks Pro Integration. Ziel des Angebots ist es\, eine offene und unterstützende Atmosphäre zu schaffen\, in der Frauen sich austauschen und informieren können. Wir möchten damit die Gesundheit und das Wohlbefinden von Frauen fördern und ihnen die Möglichkeit geben\, sich über wichtige Themen zu informieren und auszutauschen. \nDie Frauenplauderstunde wird alle drei Monate stattfinden. Jede Frau ist herzlich willkommen\, an diesem Angebot teilzunehmen und von dem Wissen und der Erfahrung unserer Expertinnen zu profitieren. \nDas Plakat zum downloaden\, weiterschicken und ausdrucken:\n \n
URL:https://ifak-bochum.de/event/frauenplauderstunde/
LOCATION:Alleestraße 24\, Alleestraße 24\, Bochum\, NRW\, 44793\, Deutschland
ATTACH;FMTTYPE=image/jpeg:https://ifak-bochum.de/wp-content/uploads/2024/06/1000023085.jpg
END:VEVENT
END:VCALENDAR