BEGIN:VCALENDAR
VERSION:2.0
PRODID:-//IFAK e.V. - ECPv4.9.9//NONSGML v1.0//EN
CALSCALE:GREGORIAN
METHOD:PUBLISH
X-WR-CALNAME:IFAK e.V.
X-ORIGINAL-URL:https://ifak-bochum.de
X-WR-CALDESC:Veranstaltungen im IFAK e.V.
BEGIN:VTIMEZONE
TZID:Europe/Berlin
BEGIN:DAYLIGHT
TZOFFSETFROM:+0100
TZOFFSETTO:+0200
TZNAME:CEST
DTSTART:20150329T010000
END:DAYLIGHT
BEGIN:STANDARD
TZOFFSETFROM:+0200
TZOFFSETTO:+0100
TZNAME:CET
DTSTART:20151025T010000
END:STANDARD
END:VTIMEZONE
BEGIN:VEVENT
DTSTART;VALUE=DATE:20150926
DTEND;VALUE=DATE:20150927
DTSTAMP:20260422T142616
CREATED:20150702T163427Z
LAST-MODIFIED:20150922T125223Z
UID:847-1443225600-1443311999@ifak-bochum.de
SUMMARY:HustadtTeilFest 2015
DESCRIPTION:Kommt alle zum Hustadtteilfest am Samstag den 26.9.2015 von 14-22 Uhr auf dem Brunnenplatz! \nHier ein Bericht aus dem letzten Jahr. Wie jedes Jahr ist die IFAK hier eine der federführenden Organisationen. \nhttp://www.derwesten.de/staedte/bochum/sued/munteres-miteinander-der-kulturen-in-der-hustadt-id9890008.html \n
URL:https://ifak-bochum.de/event/hustadtteilfest/
LOCATION:Brunnenplatz\, Brunnenplatz\, Bochum\, Nordrhein-Westfalen\, 44801\, Deutschland
ATTACH;FMTTYPE=image/jpeg:https://ifak-bochum.de/wp-content/uploads/2015/07/Plakat_Hustadtfest_2015.jpg
END:VEVENT
END:VCALENDAR