BEGIN:VCALENDAR
VERSION:2.0
PRODID:-//IFAK e.V. - ECPv4.9.9//NONSGML v1.0//EN
CALSCALE:GREGORIAN
METHOD:PUBLISH
X-WR-CALNAME:IFAK e.V.
X-ORIGINAL-URL:https://ifak-bochum.de
X-WR-CALDESC:Veranstaltungen im IFAK e.V.
BEGIN:VTIMEZONE
TZID:Europe/Berlin
BEGIN:DAYLIGHT
TZOFFSETFROM:+0100
TZOFFSETTO:+0200
TZNAME:CEST
DTSTART:20180325T010000
END:DAYLIGHT
BEGIN:STANDARD
TZOFFSETFROM:+0200
TZOFFSETTO:+0100
TZNAME:CET
DTSTART:20181028T010000
END:STANDARD
END:VTIMEZONE
BEGIN:VEVENT
DTSTART;TZID=Europe/Berlin:20181130T190000
DTEND;TZID=Europe/Berlin:20181130T190000
DTSTAMP:20260422T091522
CREATED:20181022T115150Z
LAST-MODIFIED:20181022T115359Z
UID:2158-1543604400-1543604400@ifak-bochum.de
SUMMARY:„Ich bin ja kein Rassist\, aber…“
DESCRIPTION:Vortragsabend mit Klaus Farin:\n„Ich bin ja kein Rassist\, aber…“ \n„…aber das wird man ja wohl noch sagen dürfen.“ Immer weiter verschieben sich die Grenzen des Sagbaren nach rechts. Immer mehr halten ehemalige „Stammtischparolen“ Einzug in den alltäglichen und politischen Diskurs. Gefühle gehen über Fakten und Letztere werden dann auch mal angepasst.\n„Alternative Fakten“\, eine Vernebelung des europäischen Gedankens\, ich/wir vor dem Anderen usw. fordern derzeit den/die Demokraten*in\, den/die Europäer*in und den Mensch in uns heraus. Was macht diese Entwicklung mit unserer Gesellschaft und mit uns als Bürger*in? Was passiert hier eigentlich gerade?\nKlaus Farin (Schriftsteller\, Verleger\, Gründer des Archivs der Jugendkulturen und des Hirnkostverlages\, geboren in Gelsenkirchen\, seit 1980 Wahlberlinerner; siehe http://klausfarin.de/) möchte diesen Fragen im Rahmen eines Vortrags- und Diskussionsabends mit Ihnen auf den Grund gehen. Hierzu möchten wir Sie herzlich einladen: \nam 30.11.2018\nab 19 Uhr\nim Stadtteilzentrum Pluto (Wilhelmstr. 89a\, Herne) \nFür Rückfragen stehen wir Ihnen gerne unter der Rufnummer 0152-54518913 oder unter franz@ifak-bochum.de zur Verfügung. \nIm Rahmen des Bundesprogramms „Demokratie leben! -Aktiv gegen Rassismus\, Gewalt und Menschenfeindlichkeit!“ \n
URL:https://ifak-bochum.de/event/ich-bin-ja-kein-rassist-aber/
LOCATION:Stadtteilzentrum Pluto\, Wilhelmstr. 89a\, Herne\, NRW\, 44649\, Deutschland
ATTACH;FMTTYPE=image/png:https://ifak-bochum.de/wp-content/uploads/2018/10/Vortragsabend-Klaus-Farin-2018-web.png
END:VEVENT
END:VCALENDAR