BEGIN:VCALENDAR
VERSION:2.0
PRODID:-//IFAK e.V. - ECPv4.9.9//NONSGML v1.0//EN
CALSCALE:GREGORIAN
METHOD:PUBLISH
X-WR-CALNAME:IFAK e.V.
X-ORIGINAL-URL:https://ifak-bochum.de
X-WR-CALDESC:Veranstaltungen im IFAK e.V.
BEGIN:VTIMEZONE
TZID:Europe/Berlin
BEGIN:DAYLIGHT
TZOFFSETFROM:+0100
TZOFFSETTO:+0200
TZNAME:CEST
DTSTART:20200329T010000
END:DAYLIGHT
BEGIN:STANDARD
TZOFFSETFROM:+0200
TZOFFSETTO:+0100
TZNAME:CET
DTSTART:20201025T010000
END:STANDARD
END:VTIMEZONE
BEGIN:VEVENT
DTSTART;TZID=Europe/Berlin:20201030T160000
DTEND;TZID=Europe/Berlin:20201030T180000
DTSTAMP:20260423T085841
CREATED:20201027T164436Z
LAST-MODIFIED:20201028T103136Z
UID:3415-1604073600-1604080800@ifak-bochum.de
SUMMARY:Info-Veranstaltung zum Thema Aufenthalt und Einbürgerung
DESCRIPTION:Referent: Kenan Araz\, Soziologe und Sozialberater von der Integrationsagentur für Einbürgerungsfragen (ABE) in der IFAK informiert und beantwortet Fragen\nrund um das Thema Aufenthalt und Einbürgerung. \nFür Neuzugewanderte mit Aufenthaltserlaubnis und Niederlassungserlaubnis (insbesondere aus Syrien) \nOrganisiert von der IFAK-Integrationsagentur Mitte im Q1 in Kooperation mit der IFAK-Migrationsberatung (MBE). \nWegen Corona bitte mit verbindlicher Anmeldung! \nEmail: huneke-nollmann@ifak-bochum.de\nTelefon: 0234 976 192 18 \n
URL:https://ifak-bochum.de/event/info-veranstaltung-zum-thema-aufenthalt-und-einbuergerung/
LOCATION:Q1 – Haus für Kultur\, Religion und Soziales\, Halbachstr. 1\, Bochum\, 44793\, Deutschland
ATTACH;FMTTYPE=image/png:https://ifak-bochum.de/wp-content/uploads/2020/10/Aufenthalt-und-Einbuergerung-20201030.png
END:VEVENT
END:VCALENDAR