BEGIN:VCALENDAR
VERSION:2.0
PRODID:-//IFAK e.V. - ECPv4.9.9//NONSGML v1.0//EN
CALSCALE:GREGORIAN
METHOD:PUBLISH
X-WR-CALNAME:IFAK e.V.
X-ORIGINAL-URL:https://ifak-bochum.de
X-WR-CALDESC:Veranstaltungen im IFAK e.V.
BEGIN:VTIMEZONE
TZID:Europe/Berlin
BEGIN:DAYLIGHT
TZOFFSETFROM:+0100
TZOFFSETTO:+0200
TZNAME:CEST
DTSTART:20170326T010000
END:DAYLIGHT
BEGIN:STANDARD
TZOFFSETFROM:+0200
TZOFFSETTO:+0100
TZNAME:CET
DTSTART:20171029T010000
END:STANDARD
END:VTIMEZONE
BEGIN:VEVENT
DTSTART;TZID=Europe/Berlin:20171124T180000
DTEND;TZID=Europe/Berlin:20171124T180000
DTSTAMP:20260423T105539
CREATED:20171121T211448Z
LAST-MODIFIED:20171121T212155Z
UID:1845-1511546400-1511546400@ifak-bochum.de
SUMMARY:Italienischer Kulturabend
DESCRIPTION:Italienisches Temperament und südliche Stimmung sorgen für einen unvergesslichen Abend. \n
URL:https://ifak-bochum.de/event/italienischer-kulturabend/
LOCATION:Mehrgenerationenhaus – Stadtteilzentrum Dahlhausen\, Am Ruhrort 14\, Bochum\, 44879
ATTACH;FMTTYPE=image/jpeg:https://ifak-bochum.de/wp-content/uploads/2017/11/Italienischer-Abend-20171124.jpg
END:VEVENT
END:VCALENDAR