BEGIN:VCALENDAR
VERSION:2.0
PRODID:-//IFAK e.V. - ECPv4.9.9//NONSGML v1.0//EN
CALSCALE:GREGORIAN
METHOD:PUBLISH
X-WR-CALNAME:IFAK e.V.
X-ORIGINAL-URL:https://ifak-bochum.de
X-WR-CALDESC:Veranstaltungen im IFAK e.V.
BEGIN:VTIMEZONE
TZID:Europe/Berlin
BEGIN:DAYLIGHT
TZOFFSETFROM:+0100
TZOFFSETTO:+0200
TZNAME:CEST
DTSTART:20170326T010000
END:DAYLIGHT
BEGIN:STANDARD
TZOFFSETFROM:+0200
TZOFFSETTO:+0100
TZNAME:CET
DTSTART:20171029T010000
END:STANDARD
END:VTIMEZONE
BEGIN:VEVENT
DTSTART;TZID=Europe/Berlin:20170929T170000
DTEND;TZID=Europe/Berlin:20170929T190000
DTSTAMP:20260423T103117
CREATED:20170829T101339Z
LAST-MODIFIED:20170829T101452Z
UID:1754-1506704400-1506711600@ifak-bochum.de
SUMMARY:Puppentheater - Золотой цыплёнок - Das goldene Huhn
DESCRIPTION:Am 29. September um 17 Uhr laden wir Sie zur Puppentheater-Vorstellung „Das goldene Huhn“ auf Russisch in der Integrationsagentur Querenburg (Steinkuhl) der IFAK e.V. ein. \nDer Eintritt ist frei! \n
URL:https://ifak-bochum.de/event/puppentheater-%d0%b7%d0%be%d0%bb%d0%be%d1%82%d0%be%d0%b9-%d1%86%d1%8b%d0%bf%d0%bb%d1%91%d0%bd%d0%be%d0%ba-das-goldene-huhn/
LOCATION:Integrationsagentur Querenburg\, Girondelle 82\, Bochum\, Nordrhein-Westfalen\, 44799\, Deutschland
ATTACH;FMTTYPE=image/png:https://ifak-bochum.de/wp-content/uploads/2017/08/Das-goldene-Huhn-2017-web.png
END:VEVENT
END:VCALENDAR