BEGIN:VCALENDAR
VERSION:2.0
PRODID:-//IFAK e.V. - ECPv4.9.9//NONSGML v1.0//EN
CALSCALE:GREGORIAN
METHOD:PUBLISH
X-WR-CALNAME:IFAK e.V.
X-ORIGINAL-URL:https://ifak-bochum.de
X-WR-CALDESC:Veranstaltungen im IFAK e.V.
BEGIN:VTIMEZONE
TZID:Europe/Berlin
BEGIN:DAYLIGHT
TZOFFSETFROM:+0100
TZOFFSETTO:+0200
TZNAME:CEST
DTSTART:20150329T010000
END:DAYLIGHT
BEGIN:STANDARD
TZOFFSETFROM:+0200
TZOFFSETTO:+0100
TZNAME:CET
DTSTART:20151025T010000
END:STANDARD
END:VTIMEZONE
BEGIN:VEVENT
DTSTART;TZID=Europe/Berlin:20150928T170000
DTEND;TZID=Europe/Berlin:20150928T190000
DTSTAMP:20260422T143748
CREATED:20150720T150201Z
LAST-MODIFIED:20150921T175541Z
UID:891-1443459600-1443466800@ifak-bochum.de
SUMMARY:Puppentheater Projekt „Ein Märchen über…“ - Rotkäppchen
DESCRIPTION:Liebe Kinder und Eltern\, \nsowie auch alle anderen Interessierten! \nAm 28.09.15 um 17.00 Uhr treten wir mit unserem Puppentheaterstück „Rotkäppchen“ auf Russisch in unserer Integrationsagentur Querenburg(Steinkuhl) auf. \nWir laden alle herzlich ein! \n
URL:https://ifak-bochum.de/event/puppentheater-projekt-ein-maerchen-ueber-rotkaeppchen/
LOCATION:Integrationsagentur Querenburg\, Girondelle 82\, Bochum\, Nordrhein-Westfalen\, 44799\, Deutschland
ATTACH;FMTTYPE=image/jpeg:https://ifak-bochum.de/wp-content/uploads/2015/07/Puppentheater-2015.jpg
END:VEVENT
END:VCALENDAR