BEGIN:VCALENDAR
VERSION:2.0
PRODID:-//IFAK e.V. - ECPv4.9.9//NONSGML v1.0//EN
CALSCALE:GREGORIAN
METHOD:PUBLISH
X-WR-CALNAME:IFAK e.V.
X-ORIGINAL-URL:https://ifak-bochum.de
X-WR-CALDESC:Veranstaltungen im IFAK e.V.
BEGIN:VTIMEZONE
TZID:Europe/Berlin
BEGIN:DAYLIGHT
TZOFFSETFROM:+0100
TZOFFSETTO:+0200
TZNAME:CEST
DTSTART:20230326T010000
END:DAYLIGHT
BEGIN:STANDARD
TZOFFSETFROM:+0200
TZOFFSETTO:+0100
TZNAME:CET
DTSTART:20231029T010000
END:STANDARD
END:VTIMEZONE
BEGIN:VEVENT
DTSTART;TZID=Europe/Berlin:20230602T080000
DTEND;TZID=Europe/Berlin:20230602T140000
DTSTAMP:20260422T003126
CREATED:20230530T112850Z
LAST-MODIFIED:20230530T112850Z
UID:5533-1685692800-1685714400@ifak-bochum.de
SUMMARY:Stärkung und Teilhabe älterer Menschen - gegen Einsamkeit und soziale Isolation
DESCRIPTION:Endlich geht es los! Das gemeinsame ESF Plus-Projekt #WEGEweisend-abgesichert & eingebunden ins Alter startet in den Bochumer Senior*innenbüros und der jüdischen Gemeinde\, in Kooperation mit der Stadt Bochum und wir möchten Sie herzlich zu einer ersten Auftaktveranstaltung einladen. \nAm Freitag\, den 02. Juni 2023 haben Sie die Möglichkeit\, von 08:00 – 14:00 Uhr die Projektmitwirkenden an unserem Infostand auf dem Bochumer Wochenmarkt (Dr.-Ruer-Platz) persönlich kennen zu lernen! Gerne beantworten wir alle Fragen rund um das Projekt und halten weitere Informationen für Sie bereit! \n12.06. – 16.06.2023 – Aktionswoche „Gemeinsam aus der Einsamkeit“ mit vielen spannenden Angeboten rund um die Seniorenbüros!\nNähere Infos folgen in Kürze! \nDas Projekt #WEGEweisend-abgesichert & eingebunden ins Alter wird im Rahmen des Programms „Stärkung der Teilhabe älterer Menschen – gegen Einsamkeit und soziale Isolation“ durch das Bundesministerium für Familie\, Senioren\, Frauen und Jugend und die Europäische Union über den Europäischen Sozialfonds Plus (ESF Plus) gefördert. \n
URL:https://ifak-bochum.de/event/staerkung-und-teilhabe-aelterer-menschen-gegen-einsamkeit-und-soziale-isolation/
LOCATION:Dr.-Ruer-Platz\, Dr.-Ruer-Platz\, Bochum\, 44787\, Deutschland
ATTACH;FMTTYPE=image/png:https://ifak-bochum.de/wp-content/uploads/2023/05/gemeinsam_einsam.png
ORGANIZER;CN="Senior%2Ainnenb%C3%BCro%20S%C3%BCd":MAILTO:tikhonova@ifak-bochum.de
END:VEVENT
END:VCALENDAR