BEGIN:VCALENDAR
VERSION:2.0
PRODID:-//IFAK e.V. - ECPv4.9.9//NONSGML v1.0//EN
CALSCALE:GREGORIAN
METHOD:PUBLISH
X-WR-CALNAME:IFAK e.V.
X-ORIGINAL-URL:https://ifak-bochum.de
X-WR-CALDESC:Veranstaltungen im IFAK e.V.
BEGIN:VTIMEZONE
TZID:Europe/Berlin
BEGIN:DAYLIGHT
TZOFFSETFROM:+0100
TZOFFSETTO:+0200
TZNAME:CEST
DTSTART:20190331T010000
END:DAYLIGHT
BEGIN:STANDARD
TZOFFSETFROM:+0200
TZOFFSETTO:+0100
TZNAME:CET
DTSTART:20191027T010000
END:STANDARD
END:VTIMEZONE
BEGIN:VEVENT
DTSTART;TZID=Europe/Berlin:20190503T100000
DTEND;TZID=Europe/Berlin:20190503T140000
DTSTAMP:20260423T091932
CREATED:20190408T134753Z
LAST-MODIFIED:20190408T134753Z
UID:2356-1556877600-1556892000@ifak-bochum.de
SUMMARY:Tag der offenen Tür im Seniorenbüro Süd
DESCRIPTION:Das Seniorenbüro Süd lädt Sie herzlich zum Tag der offenen Tür ein. \nWir bieten ein buntes Programm und sorgen für Speis und Trank. Sie bringen Gute Laune mit. \n
URL:https://ifak-bochum.de/event/tag-der-offenen-tuer-im-seniorenbuero-sued-3/
LOCATION:Senior*innenbüro Süd\, Querenburger Höhe 169\, Bochum\, Nordrhein-Westfalen\, 44801\, Deutschland
ORGANIZER;CN="Senior%2Ainnenb%C3%BCro%20S%C3%BCd":MAILTO:tikhonova@ifak-bochum.de
END:VEVENT
END:VCALENDAR