BEGIN:VCALENDAR
VERSION:2.0
PRODID:-//IFAK e.V. - ECPv4.9.9//NONSGML v1.0//EN
CALSCALE:GREGORIAN
METHOD:PUBLISH
X-WR-CALNAME:IFAK e.V.
X-ORIGINAL-URL:https://ifak-bochum.de
X-WR-CALDESC:Veranstaltungen im IFAK e.V.
BEGIN:VTIMEZONE
TZID:Europe/Berlin
BEGIN:DAYLIGHT
TZOFFSETFROM:+0100
TZOFFSETTO:+0200
TZNAME:CEST
DTSTART:20190331T010000
END:DAYLIGHT
BEGIN:STANDARD
TZOFFSETFROM:+0200
TZOFFSETTO:+0100
TZNAME:CET
DTSTART:20191027T010000
END:STANDARD
END:VTIMEZONE
BEGIN:VEVENT
DTSTART;TZID=Europe/Berlin:20190904T190000
DTEND;TZID=Europe/Berlin:20190904T210000
DTSTAMP:20260422T055329
CREATED:20190807T124459Z
LAST-MODIFIED:20190807T124541Z
UID:2418-1567623600-1567630800@ifak-bochum.de
SUMMARY:Türkische Politik und ihr Einfluss in Deutschland
DESCRIPTION:Informations- und Diskussionsveranstaltung im Südwesten: \nTürkische Politik und ihr Einfluss in Deutschland \n\nSchwerpunkte der gegenwärtigen politischen Auseinandersetzung in der Türkei\nAusrichtung und Orientierung der Parteien\nOppositionelle Initiativen und Strömungen\nRolle der DITIB (staatliche Religionsbehörde)\nEinflüsse auf die türkischstämmige Bevölkerung in Deutschland\nRechtsextreme und ultranationalistische türkische Organisationen in Deutschland\n\nDer Referent ist Dr. Kemal Bozay \nKemal Bozay ist Professor für Soziale Arbeit an der Internationalen Hochschule Düsseldorf und Verfasser mehrerer Publikationen zu Fragen der türkischen Migration und innertürkischer Politik. Er war einige Jahre bei der IFAK in Bochum als Geschäftsführer tätig. \nDies ist eine gemeinsame Veranstaltung von: \n\nNaturfreunde Bochum-Linden-Dahlhausen\nInternationaler Kulturverein Dahlhausen e.V.\nIFAK e.V.\n\n
URL:https://ifak-bochum.de/event/tuerkische-politik-und-ihr-einfluss-in-deutschland/
LOCATION:Treff der NaturFreunde\, \, Dr. C. Otto Str. 59\, Bochum\, 44879\, Deutschland
ATTACH;FMTTYPE=image/png:https://ifak-bochum.de/wp-content/uploads/2019/08/tuerkischepolitikundihreinflussindeutschland20190904.png
END:VEVENT
END:VCALENDAR